BEGIN:VCALENDAR
VERSION:2.0
PRODID:-//Los Content Curators - ECPv5.9.1//NONSGML v1.0//EN
CALSCALE:GREGORIAN
METHOD:PUBLISH
X-WR-CALNAME:Los Content Curators
X-ORIGINAL-URL:http://www.loscontentcurators.com
X-WR-CALDESC:Eventos para Los Content Curators
BEGIN:VTIMEZONE
TZID:Europe/Helsinki
BEGIN:DAYLIGHT
TZOFFSETFROM:+0200
TZOFFSETTO:+0300
TZNAME:EEST
DTSTART:20130331T010000
END:DAYLIGHT
BEGIN:STANDARD
TZOFFSETFROM:+0300
TZOFFSETTO:+0200
TZNAME:EET
DTSTART:20131027T010000
END:STANDARD
BEGIN:DAYLIGHT
TZOFFSETFROM:+0200
TZOFFSETTO:+0300
TZNAME:EEST
DTSTART:20140330T010000
END:DAYLIGHT
BEGIN:STANDARD
TZOFFSETFROM:+0300
TZOFFSETTO:+0200
TZNAME:EET
DTSTART:20141026T010000
END:STANDARD
BEGIN:DAYLIGHT
TZOFFSETFROM:+0200
TZOFFSETTO:+0300
TZNAME:EEST
DTSTART:20150329T010000
END:DAYLIGHT
BEGIN:STANDARD
TZOFFSETFROM:+0300
TZOFFSETTO:+0200
TZNAME:EET
DTSTART:20151025T010000
END:STANDARD
BEGIN:DAYLIGHT
TZOFFSETFROM:+0200
TZOFFSETTO:+0300
TZNAME:EEST
DTSTART:20160327T010000
END:DAYLIGHT
BEGIN:STANDARD
TZOFFSETFROM:+0300
TZOFFSETTO:+0200
TZNAME:EET
DTSTART:20161030T010000
END:STANDARD
BEGIN:DAYLIGHT
TZOFFSETFROM:+0200
TZOFFSETTO:+0300
TZNAME:EEST
DTSTART:20170326T010000
END:DAYLIGHT
BEGIN:STANDARD
TZOFFSETFROM:+0300
TZOFFSETTO:+0200
TZNAME:EET
DTSTART:20171029T010000
END:STANDARD
END:VTIMEZONE
BEGIN:VEVENT
DTSTART;VALUE=DATE:20131008
DTEND;VALUE=DATE:20171101
DTSTAMP:20260420T021909
CREATED:20171119T210919Z
LAST-MODIFIED:20171119T210919Z
UID:1935-1381190400-1509494399@www.loscontentcurators.com
SUMMARY:Eventos pasados
DESCRIPTION:Evento: Curs per al Personal d’Administració i Serveis de la UB\nFecha: octubre 2017\nLugar: Barcelona. Universitat de Barcelona (UB) \nWvento: Curso para el Servicio de Bibliotecas del Gobierno Vasco.\nFecha: mayo-junio 2017\nLugar: Online. \nEvento: Conferencia Los archivos en la sociedad red y el papel del content curator.\nFecha: 15 junio 2017\nLugar: Santiago de Compostela. Consello da Cultura Galega. \nEvento: Cursos Master Social Media Management\, Posgrado Social Media Content y Especialización Basic content curation (asignaturas Estrategia de content curation y Herramientas de content curation)\nFecha: octubre-diciembre 2016\nLugar: Online. Universitat Oberta de Catalunya (UOC) \nEvento: Asignatura Community manager y content curator. Grado de Información y Documentación\nFecha: septiembre – diciembre 2016\nLugar: Online. Universitat Oberta de Catalunya (UOC) \nEvento: [Curso de formación para el CRAI de la UB] Identificar\, seleccionar\, afegir valor i difondre informació digital (content curation)\nFecha: octubre 2016\nLugar: Barcelona. Universitat de Barcelona (UB) \nEvento: Cursos Posgrado Social Media Content y Especialización Basic content curation (asignaturas Estrategia de content curation y Herramientas de content curation)\nFecha: marzo – julio 2016\nLugar: Online. Universitat Oberta de Catalunya (UOC) \nEvento: Curso El bibliotecari com a content curator\nFecha: 28 – 29 junio 2016\nLugar: Palma de Mallorca\, Biblioteca de la Universitat de les Illes Balears (UIB) \nEvento: Curso Nuevas Tendencias en Gestión de la Información (módulo Curación de contenidos)\nFecha: (módulo Curación de contenidos): 23 mayo – 5 junio 2016\nLugar: Online. Universitat Jaume I de Castelló (UJI) \nEvento: Máster Universitario Online en Buscadores (unidades de content curation)\nFecha: 19 – 25 mayo 2016\nLugar: Online. Universitat Pompeu Fabra de Barcelona (UPF) \nEvento: HangoutEDU Content curation en educación\nFecha: 19 mayo  2016\, 20h.\nLugar: Online. HangoutEDU \nEvento: Cursos Posgrado Social Media Content y Especialización Basic content curation (asignaturas Estrategia de content curation y Herramientas de content curation)\nFecha: noviembre 2015 – febrero 2016\nLugar: Online. Universitat Oberta de Catalunya (UOC) \nEvento: Curso El content curator i l’aplicació pràctica de les 4S de la content curation \nFecha: 26 noviembre\, 2\, 9 diciembre 2015\nLugar: Barcelona. COBDC \nEvento: Conferencia Curación de contenidos en los medios digitales\nFecha: 28 noviembre 2015\nLugar: Pontevedra\, Universidad de Vigo\, Facultad de Ciencias sociales y comunicación\, Congreso I XESCOM \nEvento: [Curso para el CRAI de la UB] Identificar\, seleccionar\, afegir valor i difondre informació digital\nFecha: octubre 2015\nLugar: Barcelona. Universitat de Barcelona (UB) \nEvento: Entrevista a Javier Guallar\nFecha: 14 octubre 2015\nLugar: Online. Aprender 3C\, video \nEvento: Webinar ¿Qué es eso de la curación de contenidos?\nFecha: 14 octubre 2015\, 13 horas\nLugar: Online. Quondos one\, video \nEvento: Cursos Posgrado Social Media Content y Especialización Basic content curation (asignaturas Estrategia de content curation y Herramientas de content curation)\nFecha: 8 abril –  15 julio 2015\nLugar: Online. UOC \nEvento: Conferencia Curador de continguts \nFecha: 18 junio 2015\nLugar: Barcelona\, Departament de Salut\, I Jornades de Biblioteques i Salut de Catalunya. \nEvento: Curso Curación\, elaboración y dinamización de contenidos\nFecha: 12 junio 2015\nLugar: Bilbao. No Te Pierdas En Las Redes. \nEvento: Curso Content curator\nFecha: 4 – 26 junio 2015\nLugar: Online. Sedic \nEvento: Máster Universitario Online en Buscadores (unidades de content curation)\nFecha: 28 mayo – 3 junio 2015\nLugar: Online. UPF \nEvento: Curso de experto/a de postgrado en Organización y Gestión de la Información Documental (sesiones de content curation)\nFecha: 4 mayo – 3 junio 2015\nLugar: Online. UJI \nEvento: Conferencia Cura de continguts a biblioteques acadèmiques i de recerca  \nFecha: 21 mayo 2015\nLugar: Barcelona\, Institut d’Estudis Catalans\, Jornades de Gestió de la Informació Científica JGIC-2015\nPost de los contentcurators\, presentación en Slideshare \nEvento: Master de Gestión Documental e Información en las Empresas (MGDIE) (sesiones de content curation)\nFecha: 14\, 21 mayo 2015\nLugar: Online. UB \nEvento: Curso: Content Curation: entre la marca personal y la inteligencia competitiva\nFecha: 5 – 8 mayo 2015\nLugar: Las Palmas de Gran Canaria. Canarias7 y SPEGC. \nEvento: Cursos Posgrado Social Media Content y Especialización Basic content curation (asignaturas Estrategia de content curation y Herramientas de content curation)\nFecha: 15 octubre 2014 –  febrero 2015 (asignaturas impartidas por loscontentcurators)\nLugar: Online. UOC\nArtículo en COMeIN \nEvento: Conferencia La curación de contenidos en la era de la infoxicación. Propuestas para bibliotecas \nFecha: 11 diciembre 2014\nLugar: Madrid\, Instituto Cervantes\, VII Jornada de la Red de Bibliotecas del Instituto Cervantes\nPost de los contentcurators\, post de Ciro Llueca \nEvento: Conferencia Curación de contenidos \nFecha: 10 noviembre 2014\nLugar: Online. Perú\, I Simposio Internacional de Ciencias de la Información\nPost de loscontentcurators \nEvento: Conferencia Curación de contenidos en la biblioteca escolar\nFecha: 8 noviembre 2014\nLugar: Santiago de Compostela\, V Xornadas de Bibliotecas Escolares de Galicia\nPost de los content curators\, presentación en Slideshare \nEvento: Curso Posgrado Content curator y Especialización Basic content curation \nFecha: 2 abril – julio 2014 (asignaturas impartidas por loscontentcurators)\nAsignaturas: Teoría y estrategia de content curation (Javier Guallar)\, Herramientas de content curation (Javier Leiva)\nLugar: Online. UOC \nPosts de Loscontentcurators I\, II\,  Fahrenheit 2014\, Arts2puntzero \nEvento: Curso El content curator i el sistema de les 4S de la content curation \nFecha: 15\, 22 y 29 mayo de 2014\nLugar: Barcelona. COBDC \nposts de Loscontentcurators\, Roser Manté \nEvento: Curso Content curator \nFecha: 7-30 mayo de 2014\nLugar: Online. SEDIC \nEvento: Curso Máster en buscadores  \nFecha: 24-30 abril 2014\nUnidad: Content curator: introducción\, definición y perfil profesional; diseño e implementación (Javier Guallar)\nLugar: Online. UPF \nPosts de Loscontentcurators\, Servicio de Alerta \nEvento: Content curator: una nova professió per gestionar la xarxa. Presentación informativa dentro del Salón Futura\nFecha: 15 marzo 2014\nHora: 16.30h.\nLugar: Fira de Barcelona. Recinte Montjuic \nPosts de Loscontentcurators\, Fahrenheit 2014\, Docublog \nEvento: Curso Content Curator: guía para extraer y dar valor a la información en internet\nFecha: 10 de febrero a 11 de marzo de 2014\nLugar: Online. COBDCV \nPost de los content curators \nEvento: Curso Curació d’informació\nFecha:  4\,11\,18\,25 marzo de 2014\nLugar: Barcelona. CEJFE \nEvento: Curso Content Curator\nFecha: 5\, 6 y 7 de febrero de 2014\nLugar: León. Universidad de León\nPosts de Loscontentcurators: 1\, 2\, post de Lugarzen \nEvento: Presentación libro «El content curator»\nFecha: 4 febrero de 2014\, 20 horas\nLugar: León. Fundación Serra Pambley\nArtículos en Sierra Pambley\, Leonoticias\, Diario de León\, posts de loscontentcurators: 1\, 2\, video \nEvento: HangoutON: Curación de contenidos\nFecha: 16 de enero de 2014\, 22 horas\nLugar: Online\nPost de loscontentcurators\, post de Ignacio Conejo\, post de Yolanda Corral\n \nEvento: Presentación libro «El content curator»\nFecha: 19 diciembre de 2013\, 19:30 h.\nLugar: Barcelona. Librería Alibri\nPosts de Loscontentcurators: ppt\, storify\, fotos \nEvento: Curso Content Curator \nFecha: 27 de noviembre al 20 de diciembre de 2013\nLugar: Online. SEDIC \nPosts de Loscontentcurators\, Manuel Hurtado \nEvento: XII Workshop REBIUN\nFecha: 18 de octubre de 2013\nLugar: Lleida. Universitat de Lleida\nTítulo de nuestra sesión: Taller sobre curación de contenidos\nPost de loscontentcurators\, Post de L’Àgora \nEvento: Debate virtual: Content curator\, una nueva figura profesional\nFecha: 8 de octubre de 2013\, 19h\nLugar: Online. Facebook (UOC)\nResumen de Josep Comas\, Post de Cristina Aced\, Post de Los content curators\, Post en Docublog
URL:http://www.loscontentcurators.com/evento/eventos-pasados/
END:VEVENT
END:VCALENDAR